BEGIN:VCALENDAR
VERSION:2.0
PRODID:-//PMK Kleve - ECPv4.7.1//NONSGML v1.0//EN
CALSCALE:GREGORIAN
METHOD:PUBLISH
X-WR-CALNAME:PMK Kleve
X-ORIGINAL-URL:https://pmk-kleve.de
X-WR-CALDESC:Veranstaltungen für PMK Kleve
BEGIN:VEVENT
DTSTART;VALUE=DATE:20240330
DTEND;VALUE=DATE:20240331
DTSTAMP:20260419T175459
CREATED:20240223T125944Z
LAST-MODIFIED:20240308T085317Z
UID:6351-1711756800-1711843199@pmk-kleve.de
SUMMARY:Święcenie pokarmów
DESCRIPTION:\ngodz. 10.00 i 10.30 w Kleve\, kościół Christus König\ngodz. 12.00 i 12.30 w Emmerich\, St. Aldegundis\ngodz. 14.00 i 14.30 w Kevelaer\, St. Antonius\n\n
URL:https://pmk-kleve.de/event/swiecenie-pokarmow-2
CATEGORIES:Wydarzenia na strone główną
END:VEVENT
END:VCALENDAR