BEGIN:VCALENDAR
VERSION:2.0
PRODID:-//PMK Kleve - ECPv4.7.1//NONSGML v1.0//EN
CALSCALE:GREGORIAN
METHOD:PUBLISH
X-WR-CALNAME:PMK Kleve
X-ORIGINAL-URL:https://pmk-kleve.de
X-WR-CALDESC:Veranstaltungen für PMK Kleve
BEGIN:VEVENT
DTSTART;VALUE=DATE:20230101
DTEND;VALUE=DATE:20230102
DTSTAMP:20260423T114920
CREATED:20221209T184105Z
LAST-MODIFIED:20221209T184140Z
UID:4869-1672531200-1672617599@pmk-kleve.de
SUMMARY:Świętej Bożej Rodzicielki
DESCRIPTION:Msze święte noworoczne wg porządku niedzielnego: \n\nEmmerich\, St. Aldegundis godz. 9.30\nKleve\, Christus König godz. 12.00\nKevelaer\, St. Antonius godz. 16.00\n\n
URL:https://pmk-kleve.de/event/swietej-bozej-rodzicielki-2
CATEGORIES:Wydarzenia na strone główną
END:VEVENT
END:VCALENDAR