BEGIN:VCALENDAR
VERSION:2.0
PRODID:-//PMK Kleve - ECPv4.7.1//NONSGML v1.0//EN
CALSCALE:GREGORIAN
METHOD:PUBLISH
X-WR-CALNAME:PMK Kleve
X-ORIGINAL-URL:https://pmk-kleve.de
X-WR-CALDESC:Veranstaltungen für PMK Kleve
BEGIN:VEVENT
DTSTART;VALUE=DATE:20240101
DTEND;VALUE=DATE:20240102
DTSTAMP:20260419T222209
CREATED:20231229T123938Z
LAST-MODIFIED:20231229T123938Z
UID:6190-1704067200-1704153599@pmk-kleve.de
SUMMARY:Świetej Bożej Rodzicielki Maryi
DESCRIPTION:Msze św.: \n\nKleve – Christus König – godz. 12.00\nKevelaer – St. Antonius – godz. 16.00\n\n
URL:https://pmk-kleve.de/event/swietej-bozej-rodzicielki-maryi
CATEGORIES:Wydarzenia na strone główną
END:VEVENT
END:VCALENDAR