BEGIN:VCALENDAR
VERSION:2.0
PRODID:-//PMK Kleve - ECPv4.7.1//NONSGML v1.0//EN
CALSCALE:GREGORIAN
METHOD:PUBLISH
X-WR-CALNAME:PMK Kleve
X-ORIGINAL-URL:https://pmk-kleve.de
X-WR-CALDESC:Veranstaltungen für PMK Kleve
BEGIN:VEVENT
DTSTART;VALUE=DATE:20220722
DTEND;VALUE=DATE:20220723
DTSTAMP:20260423T200016
CREATED:20220626T224137Z
LAST-MODIFIED:20220626T224137Z
UID:4179-1658448000-1658534399@pmk-kleve.de
SUMMARY:Świętej Marii Magdaleny (święto)
DESCRIPTION:
URL:https://pmk-kleve.de/event/swietej-marii-magdaleny-swieto
CATEGORIES:Wydarzenia na strone główną
END:VEVENT
END:VCALENDAR