BEGIN:VCALENDAR
VERSION:2.0
PRODID:-//PMK Kleve - ECPv4.7.1//NONSGML v1.0//EN
CALSCALE:GREGORIAN
METHOD:PUBLISH
X-WR-CALNAME:PMK Kleve
X-ORIGINAL-URL:https://pmk-kleve.de
X-WR-CALDESC:Veranstaltungen für PMK Kleve
BEGIN:VEVENT
DTSTART;VALUE=DATE:20221230
DTEND;VALUE=DATE:20221231
DTSTAMP:20260423T150048
CREATED:20221209T183609Z
LAST-MODIFIED:20221230T114122Z
UID:4864-1672358400-1672444799@pmk-kleve.de
SUMMARY:Świętej Rodziny
DESCRIPTION:Wspólnie będziemy prosić Świętą Rodzinę o świętość naszych rodzin.  \nZachęcamy do odnowienia przyrzeczeń małżeńskich. \nMsza św. w Emmerich am Rhein\, kościół St. Aldegundis\, godz. 19.00 \n
URL:https://pmk-kleve.de/event/swietej-rodziny
CATEGORIES:Wydarzenia na strone główną
END:VEVENT
END:VCALENDAR