BEGIN:VCALENDAR
VERSION:2.0
PRODID:-//PMK Kleve - ECPv4.7.1//NONSGML v1.0//EN
CALSCALE:GREGORIAN
METHOD:PUBLISH
X-WR-CALNAME:PMK Kleve
X-ORIGINAL-URL:https://pmk-kleve.de
X-WR-CALDESC:Veranstaltungen für PMK Kleve
BEGIN:VEVENT
DTSTART;VALUE=DATE:20220109
DTEND;VALUE=DATE:20220110
DTSTAMP:20260425T214554
CREATED:20220103T203031Z
LAST-MODIFIED:20220103T203031Z
UID:3661-1641686400-1641772799@pmk-kleve.de
SUMMARY:Święto Chrztu Pańskiego
DESCRIPTION:Święto Chrztu Pańskiego\, kończy liturgiczny okres Narodzenia Pańskiego.  \nMsze św. o godz. 9.30\, 12.00 i 16.00 ze szczególnym udziałem dzieci. \n
URL:https://pmk-kleve.de/event/swieto-chrztu-panskiego
CATEGORIES:Wydarzenia na strone główną
END:VEVENT
END:VCALENDAR