BEGIN:VCALENDAR
VERSION:2.0
PRODID:-//PMK Kleve - ECPv4.7.1//NONSGML v1.0//EN
CALSCALE:GREGORIAN
METHOD:PUBLISH
X-WR-CALNAME:PMK Kleve
X-ORIGINAL-URL:https://pmk-kleve.de
X-WR-CALDESC:Veranstaltungen für PMK Kleve
BEGIN:VEVENT
DTSTART;VALUE=DATE:20250202
DTEND;VALUE=DATE:20250203
DTSTAMP:20260422T225134
CREATED:20250124T122319Z
LAST-MODIFIED:20250124T122532Z
UID:7166-1738454400-1738540799@pmk-kleve.de
SUMMARY:Święto Ofiarowania Pańskiego
DESCRIPTION:W niedzielę\, 2 lutego\, obchodzimy święto Ofiarowania Pańskiego\, w naszej polskiej tradycji nazywane też świętem Matki Bożej Gromnicznej. To pamiątka obrzędu\, jakiemu zgodnie z żydowskim prawem w czterdziestym dniu po urodzeniu Pana Jezusa poddali się Maryja i Józef. Zanieśli Dzieciątko do świątyni jerozolimskiej\, aby przedstawić Je Bogu i złożyć ofiarę. \nTego dnia na uroczystą liturgię przynosimy świece zwane gromnicami. \nZostaną one pobłogosławione\, aby przez cały rok\, a zwłaszcza w chwilach trwogi i cierpienia\, przypominały nam o Jezusie – Światłości Narodów\, który nieustannie oświeca drogi naszego życia. Przy wyjściu z kościoła można nabyć świece gromniczne z wosku pszczelego. \nZ inicjatywy Świętego Jana Pawła II święto Ofiarowania Pańskiego jest także Światowym Dniem Życia Konsekrowanego. Naszą modlitwą obejmiemy osoby poświęcone Bogu i ludziom w różnych zakonach i zgromadzeniach. Tego dnia będziemy prosić o liczne i święte powołania do życia zakonnego w naszych rodzinach i we wspólnocie parafialnej. \nW naszej parafii od tego dnia obowiązuje nowy porządek Mszy świętych niedzielnych. W Kleve Msza św. o godz. 9.30 w Stiftskirche\, w Emmerich o godz. 12.00 w Liebfrauenkirche\, w Kevelaer o godz. 16.00 w St. Antoniuskirche. Więcej informacji w ogłoszeniach. \n
URL:https://pmk-kleve.de/event/swieto-ofiarowania-panskiego-2
CATEGORIES:Wydarzenia na strone główną
END:VEVENT
END:VCALENDAR