BEGIN:VCALENDAR
VERSION:2.0
PRODID:-//PMK Kleve - ECPv4.7.1//NONSGML v1.0//EN
CALSCALE:GREGORIAN
METHOD:PUBLISH
X-WR-CALNAME:PMK Kleve
X-ORIGINAL-URL:https://pmk-kleve.de
X-WR-CALDESC:Veranstaltungen für PMK Kleve
BEGIN:VEVENT
DTSTART;VALUE=DATE:20220729
DTEND;VALUE=DATE:20220730
DTSTAMP:20260423T224126
CREATED:20220626T224242Z
LAST-MODIFIED:20220626T224243Z
UID:4181-1659052800-1659139199@pmk-kleve.de
SUMMARY:Świętych Marty\, Marii i Łazarza (wspomnienie obow.)
DESCRIPTION:
URL:https://pmk-kleve.de/event/swietych-marty-marii-i-lazarza-wspomnienie-obow
CATEGORIES:Wydarzenia na strone główną
END:VEVENT
END:VCALENDAR