BEGIN:VCALENDAR
VERSION:2.0
PRODID:-//PMK Kleve - ECPv4.7.1//NONSGML v1.0//EN
CALSCALE:GREGORIAN
METHOD:PUBLISH
X-WR-CALNAME:PMK Kleve
X-ORIGINAL-URL:https://pmk-kleve.de
X-WR-CALDESC:Veranstaltungen für PMK Kleve
BEGIN:VEVENT
DTSTART;VALUE=DATE:20230924
DTEND;VALUE=DATE:20230925
DTSTAMP:20260419T185427
CREATED:20230920T075304Z
LAST-MODIFIED:20230920T075304Z
UID:5849-1695513600-1695599999@pmk-kleve.de
SUMMARY:Szkolenie prawno-psychologiczne
DESCRIPTION:\nSzkolenie otwarte z tematyki prawno – psychologicznej!\n\n\n@SGH RECHTSANWÄLTE wraz z@polskigabinetpsychologiczny Zapraszają na szkolenie:\n\n\n#zasiłek na dzieci (Kindergeld)\n#zasiłek rodzicielski (Eltergeld)\n#zaliczka alimentacyjna\n#alimenty\n#ulga podaktowa\n#dochód obywatelski\n#pomoc społeczna (Sozialhilfe)\n#ochrona przed przemocą\n#przyznawanie mieszkania\noraz\n#aspekty psychologiczne pomocy i samopomocy w trakcie i po rozstaniu\,\n\n\nKiedy? \n24.09.2023 (Niedziela) godz.11:00-15:00\n\n\nGdzie?\nAldegundisheim Hottomannsdeich2\nEmmerich am Rhein\n\n\nDla kogo?\nDla rodziców – samotnych matek lub ojców\n\n\nKoszt? \n5 euro osoba/płatne na miejscu\n \n\n\nZapisy u Pani Katarzyny Tolstych \n\n\nProwadzące: SGH Rechtsanwälte PartG Starosta\, LL.M. Dr. Grego-Hoffmann Drache oraz mgr Katarzyna Tolstych psycholog\n\n
URL:https://pmk-kleve.de/event/szkolenie-prawno-psychologiczne
CATEGORIES:Wydarzenia na strone główną
END:VEVENT
END:VCALENDAR