BEGIN:VCALENDAR
VERSION:2.0
PRODID:-//PMK Kleve - ECPv4.7.1//NONSGML v1.0//EN
CALSCALE:GREGORIAN
METHOD:PUBLISH
X-WR-CALNAME:PMK Kleve
X-ORIGINAL-URL:https://pmk-kleve.de
X-WR-CALDESC:Veranstaltungen für PMK Kleve
BEGIN:VEVENT
DTSTART;VALUE=DATE:20230216
DTEND;VALUE=DATE:20230217
DTSTAMP:20260423T042327
CREATED:20230210T094041Z
LAST-MODIFIED:20230210T094041Z
UID:5123-1676505600-1676591999@pmk-kleve.de
SUMMARY:Tłusty czwartek
DESCRIPTION:
URL:https://pmk-kleve.de/event/tlusty-czwartek
CATEGORIES:Wydarzenia na strone główną
END:VEVENT
END:VCALENDAR