BEGIN:VCALENDAR
VERSION:2.0
PRODID:-//PMK Kleve - ECPv4.7.1//NONSGML v1.0//EN
CALSCALE:GREGORIAN
METHOD:PUBLISH
X-WR-CALNAME:PMK Kleve
X-ORIGINAL-URL:https://pmk-kleve.de
X-WR-CALDESC:Veranstaltungen für PMK Kleve
BEGIN:VEVENT
DTSTART;VALUE=DATE:20240618
DTEND;VALUE=DATE:20240622
DTSTAMP:20260420T040203
CREATED:20240614T112404Z
LAST-MODIFIED:20240619T100632Z
UID:6643-1718668800-1719014399@pmk-kleve.de
SUMMARY:Tydzień modlitw za rodziny za wstawiennictwem bł. Rodziny Ulmów
DESCRIPTION: \nPROGRAM TYGODNIA MODLITW ZA WSTAWIENNICTWEM BŁ. RODZINY ULMÓW W NASZEJ PARAFII  \nWtorek 18.06.2024\, Kleve \n• godz. 17.30 Katecheza dla dzieci (projekcja filmu o bł. Rodzinie Ulmów) \n• godz.17.45 Msza święta ze szczególnym udziałem dzieci  \nŚroda 19.06.2024\, Kleve \nTemat dnia: Kto jest moim bliźnim? O chrześcijańskiej miłości miłosiernej praktykowanej w życiu Błogosławionych Józefa i Wiktorii Ulmów. Rodzina Ulmów jako uobecnienie Miłości Boga  \n• godz. 17.30 – 18.30 Katecheza dla młodzieży (projekcja filmu o bł. Rodzinie Ulmów)\, \n• godz. 18.30 – różaniec z bł. Rodziną Ulmów \n• godz. 19.00 – Msza św. \n• godz. 20.00 – 21.00 czuwanie modlitewne przed Najświętszym Sakramentem z relikwiami bł. Rodziną Ulmów – modlitwy za rodziny w naszej parafii\, przebłaganie za grzechy popełnione w rodzinach  \n• godz. 21.00 projekcja filmu  \nCzwartek 20.06.2024\, Kevelaer \nTemat dnia: Rodzina Ulmów przykładem troski o rozwój wiary i kultury \n• godz. 19.30 – Msza św. \n• godz. 20.30 – 21.30 czuwanie modlitewne przed Najświętszym Sakramentem z relikwiami bł. Rodziną Ulmów – modlitwy za rodziny w naszej parafii\, przebłaganie za popełnione grzechy w rodzinach  \nPiątek 21.06.2024\, Emmerich \nTemat dnia: Rodzina Ulmów a wychowanie w wierze \n• godz. 19.00 – Msza św. \n• godz. 20.00 – 21.30 czuwanie modlitewne przed Najświętszym Sakramentem z relikwiami bł. Rodziną Ulmów – modlitwy za rodziny w naszej parafii\, przebłaganie za popełnione grzechy w rodzinach  \nMATERIAŁY DO ROZWAŻAŃ: https://ulmowie.pl/ \n
URL:https://pmk-kleve.de/event/tydzien-modlitw-za-rodziny-za-wstawiennictwem-bl-rodziny-ulmow
CATEGORIES:Wydarzenia na strone główną
END:VEVENT
END:VCALENDAR