BEGIN:VCALENDAR
VERSION:2.0
PRODID:-//PMK Kleve - ECPv4.7.1//NONSGML v1.0//EN
CALSCALE:GREGORIAN
METHOD:PUBLISH
X-WR-CALNAME:PMK Kleve
X-ORIGINAL-URL:https://pmk-kleve.de
X-WR-CALDESC:Veranstaltungen für PMK Kleve
BEGIN:VEVENT
DTSTART;VALUE=DATE:20221120
DTEND;VALUE=DATE:20221121
DTSTAMP:20260423T085859
CREATED:20221106T171955Z
LAST-MODIFIED:20221111T140330Z
UID:4545-1668902400-1668988799@pmk-kleve.de
SUMMARY:Uroczystość Jezusa Chrystusa Króla Wszechświata
DESCRIPTION:W niedzielę\, 20 listopada\, przypada uroczystość Jezusa Chrystusa\, Króla Wszechświata.  \nBędzie to ostatnia niedziela roku liturgicznego.  \nTego dnia obchodzimy święto patronalne Towarzystwa Chrystusowego i sióstr Misjonarek oraz Akcji Katolickiej i Katolickiego Stowarzyszenia Młodzieży. \n
URL:https://pmk-kleve.de/event/uroczystosc-jezusa-chrystusa-krola-wszechswiata
CATEGORIES:Wydarzenia na strone główną
END:VEVENT
END:VCALENDAR