BEGIN:VCALENDAR
VERSION:2.0
PRODID:-//PMK Kleve - ECPv4.7.1//NONSGML v1.0//EN
CALSCALE:GREGORIAN
METHOD:PUBLISH
X-WR-CALNAME:PMK Kleve
X-ORIGINAL-URL:https://pmk-kleve.de
X-WR-CALDESC:Veranstaltungen für PMK Kleve
BEGIN:VEVENT
DTSTART;VALUE=DATE:20250627
DTEND;VALUE=DATE:20250628
DTSTAMP:20260423T114149
CREATED:20250620T101739Z
LAST-MODIFIED:20250620T101739Z
UID:7484-1750982400-1751068799@pmk-kleve.de
SUMMARY:Uroczystość Najświętszego Serca Pana Jezusa.
DESCRIPTION:W piątek\, 27 czerwca\, w kalendarzu liturgicznym przypada uroczystość Najświętszego Serca Pana Jezusa.  \nJest to też Światowy Dzień Modlitw o Uświęcenie Kapłanów.  \nMsza św. tego dnia o godz. 19.00 w kościele św. Aldegundy w Emmerich.  \nTego dnia z racji uroczystości nie obowiązuje wstrzemięźliwość od pokarmów mięsnych.  \n
URL:https://pmk-kleve.de/event/uroczystosc-najswietszego-serca-pana-jezusa-4
CATEGORIES:Wydarzenia na strone główną
END:VEVENT
END:VCALENDAR