BEGIN:VCALENDAR
VERSION:2.0
PRODID:-//PMK Kleve - ECPv4.7.1//NONSGML v1.0//EN
CALSCALE:GREGORIAN
METHOD:PUBLISH
X-WR-CALNAME:PMK Kleve
X-ORIGINAL-URL:https://pmk-kleve.de
X-WR-CALDESC:Veranstaltungen für PMK Kleve
BEGIN:VEVENT
DTSTART;VALUE=DATE:20190628
DTEND;VALUE=DATE:20190629
DTSTAMP:20260425T223819
CREATED:20190623T161106Z
LAST-MODIFIED:20190623T164705Z
UID:1129-1561680000-1561766399@pmk-kleve.de
SUMMARY:uroczystość Najświętszego Serca Pana Jezusa
DESCRIPTION:W piątek przypada uroczystość Najświętszego Serca Pana Jezusa. Z inicjatywy św. Jana Pawła II jest to Światowy Dzień Modlitwy o Uświęcenie Kapłanów. Wszystkich księży polecam modlitwom parafian. \n
URL:https://pmk-kleve.de/event/uroczystosc-najswietszego-serca-pana-jezusa
ATTACH;FMTTYPE=image/jpeg:https://pmk-kleve.de/wp-content/uploads/2019/06/Sacred-Heart.jpg
END:VEVENT
END:VCALENDAR