BEGIN:VCALENDAR
VERSION:2.0
PRODID:-//PMK Kleve - ECPv4.7.1//NONSGML v1.0//EN
CALSCALE:GREGORIAN
METHOD:PUBLISH
X-WR-CALNAME:PMK Kleve
X-ORIGINAL-URL:https://pmk-kleve.de
X-WR-CALDESC:Veranstaltungen für PMK Kleve
BEGIN:VEVENT
DTSTART;VALUE=DATE:20220503
DTEND;VALUE=DATE:20220504
DTSTAMP:20260423T102829
CREATED:20220430T145623Z
LAST-MODIFIED:20220430T150149Z
UID:3995-1651536000-1651622399@pmk-kleve.de
SUMMARY:Uroczystość Najświętszej Maryi Panny Królowej Polski
DESCRIPTION:Msza św. w Beichtkapelle w Kevelaer o godz. 19.30. \n3 maja mija 56 lat od złożenia przez Episkopat Polski pod przewodnictwem Prymasa kard. Stefana Wyszyńskiego Milenijnego Aktu Oddania Polski pod opiekę Matki Bożej. To zawierzenie z 1966 r. było historycznym wydarzeniem. Stolica Apostolska przyrównała go potem do największego w dziejach naszego Narodu – do chrztu Mieszkowego\, który dał początek chrześcijaństwu Polski.\nZamiar oddania Polski w niewolę Maryi za Kościół powszechny zrodził się już w Komańczy w 1956 r.\, gdy Prymas Stefan kard. Wyszyński był uwięziony\, w czwartym miejscu swego odosobnienia. Pisząc Jasnogórskie Śluby Narodu\, od razu zarysował program Wielkiej Nowenny przygotowującej obchody milenijne\, razem z tym największym dokonaniem\, czyli Aktem Oddania. \n3 maja na Jasnej Górze\, w uroczystość Królowej Polski\, odbędzie się ogólnopolskie dziękczynienie za życie i posługę bł. Prymasa kard. Stefana Wyszyńskiego\, wielkiego pasterza Kościoła i Polaka. \nŹródło: www.jasnagora.com   \n
URL:https://pmk-kleve.de/event/uroczystosc-najswietszej-maryi-panny-krolowej-polski-3
CATEGORIES:Wydarzenia na strone główną
END:VEVENT
END:VCALENDAR