BEGIN:VCALENDAR
VERSION:2.0
PRODID:-//PMK Kleve - ECPv4.7.1//NONSGML v1.0//EN
CALSCALE:GREGORIAN
METHOD:PUBLISH
X-WR-CALNAME:PMK Kleve
X-ORIGINAL-URL:https://pmk-kleve.de
X-WR-CALDESC:Veranstaltungen für PMK Kleve
BEGIN:VEVENT
DTSTART;VALUE=DATE:20230624
DTEND;VALUE=DATE:20230625
DTSTAMP:20260422T084600
CREATED:20230616T122523Z
LAST-MODIFIED:20230616T122524Z
UID:5630-1687564800-1687651199@pmk-kleve.de
SUMMARY:Uroczystość Narodzenia św. Jana Chrzciciela
DESCRIPTION:W Litanii do wszystkich świętych Święty Jan Chrzciciel jest wymieniany na pierwszym miejscu\, zaraz po Maryi. To wielki nauczyciel i świadek Prawdy Bożej\, który za nią był gotów oddać życie. Ciesząc się narodzinami Świętego Jana Chrzciciela\, warto zastanowić się nad swoim życiem\, nad zgodnością naszych czynów\, słów i postaw z wyznawaną przez nas wiarą i pobożnością. Czy jako chrześcijanie możemy powiedzieć o sobie\, że jesteśmy światłem dla świata? \n
URL:https://pmk-kleve.de/event/uroczystosc-narodzenia-sw-jana-chrzciciela
CATEGORIES:Wydarzenia na strone główną
END:VEVENT
END:VCALENDAR