BEGIN:VCALENDAR
VERSION:2.0
PRODID:-//PMK Kleve - ECPv4.7.1//NONSGML v1.0//EN
CALSCALE:GREGORIAN
METHOD:PUBLISH
X-WR-CALNAME:PMK Kleve
X-ORIGINAL-URL:https://pmk-kleve.de
X-WR-CALDESC:Veranstaltungen für PMK Kleve
BEGIN:VEVENT
DTSTART;VALUE=DATE:20240106
DTEND;VALUE=DATE:20240107
DTSTAMP:20260419T185427
CREATED:20231229T115015Z
LAST-MODIFIED:20231229T115015Z
UID:6173-1704499200-1704585599@pmk-kleve.de
SUMMARY:Uroczystość Objawienia Pańskiego
DESCRIPTION:W sobotę 06.01 w Uroczystość Objawienia Pańskiego\, tzw. Święto Trzech Króli.  \nMsze św.: \n\n Kevelaer – Beichtkapelle – godz. 9.30\nKleve – St. Mariä Empfängnis – godz. 12.00\n\n
URL:https://pmk-kleve.de/event/uroczystosc-objawienia-panskiego-4
CATEGORIES:Wydarzenia na strone główną
END:VEVENT
END:VCALENDAR