BEGIN:VCALENDAR
VERSION:2.0
PRODID:-//PMK Kleve - ECPv4.7.1//NONSGML v1.0//EN
CALSCALE:GREGORIAN
METHOD:PUBLISH
X-WR-CALNAME:PMK Kleve
X-ORIGINAL-URL:https://pmk-kleve.de
X-WR-CALDESC:Veranstaltungen für PMK Kleve
BEGIN:VEVENT
DTSTART;VALUE=DATE:20240509
DTEND;VALUE=DATE:20240510
DTSTAMP:20260420T040033
CREATED:20240503T122533Z
LAST-MODIFIED:20240503T122712Z
UID:6552-1715212800-1715299199@pmk-kleve.de
SUMMARY:Uroczystość Wniebowstąpienia Pańskiego
DESCRIPTION: Uroczystość Wniebowstąpienia Pańskiego to święto obowiązkowe nakazane. \n„Zmartwychwstanie Pańskie jest naszą nadzieją. Wniebowstąpienie zaś jest naszym uwielbieniem. W dzień swego narodzenia Pan dał świadectwo\, że jest prawdziwym człowiekiem. W dzień swego Wniebowstąpienia dał świadectwo\, że jest Bogiem prawdziwym. Po grobie – niebo\, po krzyżu – tron. W poczet nieśmiertelnych zostaje wprowadzona natura śmiertelna. Na tron niebieski zostaje posadzone ziemskie ciało” – tak mówił w IV wieku św. Augustyn. (Źródło: https:// stacja7.pl/wiara/dzis-obchodzimyuroczystosc-wniebowstapienia-panskiego/) \nUroczystość Pańskiego Wniebowstąpienia przypada w Kościele katolickim w czwartek – 40 dni po Zmartwychwstaniu (w Niemczech jest to dzień wolny od pracy)\, ale w Polsce obchodzona jest w VII Niedzielę Wielkanocną.  \nMsze święte w naszej parafii sprawowane są tego dnia według porządku niedzielnego: \n\nEmmerich am Rhein – kościół St. Aldegundis – godz. 09.30\nKleve – kościół Christus König – godz. 12.00\nKevelaer – kościół St. Antonius – godz. 16.00\n\n
URL:https://pmk-kleve.de/event/uroczystosc-wniebowstapienia-panskiego-2
CATEGORIES:Wydarzenia na strone główną
END:VEVENT
END:VCALENDAR