BEGIN:VCALENDAR
VERSION:2.0
PRODID:-//PMK Kleve - ECPv4.7.1//NONSGML v1.0//EN
CALSCALE:GREGORIAN
METHOD:PUBLISH
X-WR-CALNAME:PMK Kleve
X-ORIGINAL-URL:https://pmk-kleve.de
X-WR-CALDESC:Veranstaltungen für PMK Kleve
BEGIN:VEVENT
DTSTART;VALUE=DATE:20230518
DTEND;VALUE=DATE:20230519
DTSTAMP:20260422T164758
CREATED:20230512T205730Z
LAST-MODIFIED:20230512T205730Z
UID:5477-1684368000-1684454399@pmk-kleve.de
SUMMARY:Uroczystość Wniebowstąpienia Pańskiego
DESCRIPTION: Uroczystość Wniebowstąpienia Pańskiego to święto obowiązkowe nakazane.  \nMsze święte sprawowane są wg porządku niedzielnego. \n
URL:https://pmk-kleve.de/event/uroczystosc-wniebowstapienia-panskiego-3
CATEGORIES:Wydarzenia na strone główną
END:VEVENT
END:VCALENDAR