BEGIN:VCALENDAR
VERSION:2.0
PRODID:-//PMK Kleve - ECPv4.7.1//NONSGML v1.0//EN
CALSCALE:GREGORIAN
METHOD:PUBLISH
X-WR-CALNAME:PMK Kleve
X-ORIGINAL-URL:https://pmk-kleve.de
X-WR-CALDESC:Veranstaltungen für PMK Kleve
BEGIN:VEVENT
DTSTART;VALUE=DATE:20241101
DTEND;VALUE=DATE:20241102
DTSTAMP:20260422T123416
CREATED:20241031T093711Z
LAST-MODIFIED:20241031T094039Z
UID:6941-1730419200-1730505599@pmk-kleve.de
SUMMARY:Uroczystość Wszystkich Świętych
DESCRIPTION:W piątek\, 01 listopada w Uroczystość Wszystkich Świętych obowiązuje następujący porządek: \n\nMsza św. w Kevelaer\, St. Antonius o godz. 13.00\,\nmodlitwa na cmentarzu w Kleve Reichswalde (Grunewaldstr.) o godz. 15.00\,\nMsza św. w Kleve\, kościół Chrystusa Króla o godz. 17.00\n\nNie zapominajmy\, że przez osiem pierwszych dni listopada duszom w czyśćcu możemy ofiarować wielki dar – odpust zupełny za pobożne nawiedzenie cmentarza i zmówienie modlitwy w ich intencji oraz spełnienie pozostałych zwykłych warunków\, to znaczy: stan łaski uświęcającej\, brak przywiązania do jakiegokolwiek grzechu\, przyjęcie Komunii Świętej\, odmówienie modlitwy w intencjach wyznaczonych przez papieża. \n
URL:https://pmk-kleve.de/event/uroczystosc-wszystkich-swietych-2
CATEGORIES:Wydarzenia na strone główną
END:VEVENT
END:VCALENDAR