BEGIN:VCALENDAR
VERSION:2.0
PRODID:-//PMK Kleve - ECPv4.7.1//NONSGML v1.0//EN
CALSCALE:GREGORIAN
METHOD:PUBLISH
X-WR-CALNAME:PMK Kleve
X-ORIGINAL-URL:https://pmk-kleve.de
X-WR-CALDESC:Veranstaltungen für PMK Kleve
BEGIN:VEVENT
DTSTART;VALUE=DATE:20231101
DTEND;VALUE=DATE:20231102
DTSTAMP:20260420T031616
CREATED:20231027T114934Z
LAST-MODIFIED:20231027T115047Z
UID:5940-1698796800-1698883199@pmk-kleve.de
SUMMARY:Uroczystość Wszystkich Świętych
DESCRIPTION:\nMsza św. o godz. 13.00 w kościele pw. św. Antoniego w Kevelaer.\nO godz. 15.00 tradycyjne nabożeństwo na cmentarzu Reichswalde\, Grunewaldstr. w Kleve.\nNatomiast o godz. 17.00 będzie sprawowana Msza św. w kościele Chrystusa Króla w Kleve.\n\n
URL:https://pmk-kleve.de/event/uroczystosc-wszystkich-swietych
CATEGORIES:Wydarzenia na strone główną
END:VEVENT
END:VCALENDAR