BEGIN:VCALENDAR
VERSION:2.0
PRODID:-//PMK Kleve - ECPv4.7.1//NONSGML v1.0//EN
CALSCALE:GREGORIAN
METHOD:PUBLISH
X-WR-CALNAME:PMK Kleve
X-ORIGINAL-URL:https://pmk-kleve.de
X-WR-CALDESC:Veranstaltungen für PMK Kleve
BEGIN:VEVENT
DTSTART;VALUE=DATE:20250325
DTEND;VALUE=DATE:20250326
DTSTAMP:20260423T044554
CREATED:20250314T113645Z
LAST-MODIFIED:20250314T113645Z
UID:7261-1742860800-1742947199@pmk-kleve.de
SUMMARY:Uroczystość Zwiastowania Pańskiego
DESCRIPTION:Msza św. w Bazylice Matki Bożej Pocieszycielki Strapionych w Kevelaer o godz. 19.00 \n
URL:https://pmk-kleve.de/event/uroczystosc-zwiastowania-panskiego-2
CATEGORIES:Wydarzenia na strone główną
END:VEVENT
END:VCALENDAR