BEGIN:VCALENDAR
VERSION:2.0
PRODID:-//PMK Kleve - ECPv4.7.1//NONSGML v1.0//EN
CALSCALE:GREGORIAN
METHOD:PUBLISH
X-WR-CALNAME:PMK Kleve
X-ORIGINAL-URL:https://pmk-kleve.de
X-WR-CALDESC:Veranstaltungen für PMK Kleve
BEGIN:VEVENT
DTSTART;VALUE=DATE:20230325
DTEND;VALUE=DATE:20230326
DTSTAMP:20260423T010515
CREATED:20230317T123740Z
LAST-MODIFIED:20230317T123740Z
UID:5290-1679702400-1679788799@pmk-kleve.de
SUMMARY:Uroczystość Zwiastowania Pańskiego
DESCRIPTION:W tę uroczystość celebrujemy początek naszego odkupienia. Syn Boży wcielił się w łono Najświętszej Maryi Panny\, aby wyzwolić nas spod panowania grzechu i zła.  \nZapraszam tego dnia na Mszę świętą o godz. 11.30 do Kevelaer\, Beichtkapelle.  \nHomilię wygłosi ks. Marek Ciesielski SChr w ramach kwartalnego dnia skupienia dla kobiet.  \nPo Mszy. Św. zostanie wygłoszona koferencja: „Kto szuka prawdy\, ten szuka Boga … – św. Edyta Stein” \n
URL:https://pmk-kleve.de/event/uroczystosc-zwiastowania-panskiego
CATEGORIES:Wydarzenia na strone główną
END:VEVENT
END:VCALENDAR