BEGIN:VCALENDAR
VERSION:2.0
PRODID:-//PMK Kleve - ECPv4.7.1//NONSGML v1.0//EN
CALSCALE:GREGORIAN
METHOD:PUBLISH
X-WR-CALNAME:PMK Kleve
X-ORIGINAL-URL:https://pmk-kleve.de
X-WR-CALDESC:Veranstaltungen für PMK Kleve
BEGIN:VEVENT
DTSTART;VALUE=DATE:20230326
DTEND;VALUE=DATE:20230327
DTSTAMP:20260424T100706
CREATED:20230324T153747Z
LAST-MODIFIED:20230324T153747Z
UID:5341-1679788800-1679875199@pmk-kleve.de
SUMMARY:V Niedziela Wielkiego Postu
DESCRIPTION:„Panie Jezu\, Ty zapewniasz mnie dziś\, że nie ma modlitw niewysłuchanych. Przymnóż mi wiary\, abym tak jak Marta mógł dziś powiedzieć: Wierzę! Amen“ \nAutor modlitwy: ks. Cyprian Kostrzewa SSP \n
URL:https://pmk-kleve.de/event/v-niedziela-wielkiego-postu
CATEGORIES:Wydarzenia na strone główną
END:VEVENT
END:VCALENDAR