BEGIN:VCALENDAR
VERSION:2.0
PRODID:-//PMK Kleve - ECPv4.7.1//NONSGML v1.0//EN
CALSCALE:GREGORIAN
METHOD:PUBLISH
X-WR-CALNAME:PMK Kleve
X-ORIGINAL-URL:https://pmk-kleve.de
X-WR-CALDESC:Veranstaltungen für PMK Kleve
BEGIN:VEVENT
DTSTART;VALUE=DATE:20250419
DTEND;VALUE=DATE:20250420
DTSTAMP:20260423T115416
CREATED:20250314T114549Z
LAST-MODIFIED:20250320T115000Z
UID:7271-1745020800-1745107199@pmk-kleve.de
SUMMARY:Wielka Sobota
DESCRIPTION:Godz. 18.00 – Adoracja Liebfrauenkirche Emmerich am Rhein  \nGodz. 20.00 – Wigilia Paschalna Liebfrauenkirche Emmerich am Rhein \n
URL:https://pmk-kleve.de/event/wielka-sobota-3
CATEGORIES:Wydarzenia na strone główną
END:VEVENT
END:VCALENDAR