BEGIN:VCALENDAR
VERSION:2.0
PRODID:-//PMK Kleve - ECPv4.7.1//NONSGML v1.0//EN
CALSCALE:GREGORIAN
METHOD:PUBLISH
X-WR-CALNAME:PMK Kleve
X-ORIGINAL-URL:https://pmk-kleve.de
X-WR-CALDESC:Veranstaltungen für PMK Kleve
BEGIN:VEVENT
DTSTART;VALUE=DATE:20190420
DTEND;VALUE=DATE:20190421
DTSTAMP:20260425T165531
CREATED:20190402T065457Z
LAST-MODIFIED:20190417T075309Z
UID:546-1555718400-1555804799@pmk-kleve.de
SUMMARY:Wielka Sobota
DESCRIPTION: \n
URL:https://pmk-kleve.de/event/wielka-sobota
ATTACH;FMTTYPE=image/jpeg:https://pmk-kleve.de/wp-content/uploads/2019/04/Wigilia-wielka-sobota.jpg
END:VEVENT
END:VCALENDAR