BEGIN:VCALENDAR
VERSION:2.0
PRODID:-//PMK Kleve - ECPv4.7.1//NONSGML v1.0//EN
CALSCALE:GREGORIAN
METHOD:PUBLISH
X-WR-CALNAME:PMK Kleve
X-ORIGINAL-URL:https://pmk-kleve.de
X-WR-CALDESC:Veranstaltungen für PMK Kleve
BEGIN:VEVENT
DTSTART;VALUE=DATE:20220414
DTEND;VALUE=DATE:20220415
DTSTAMP:20260423T150350
CREATED:20220413T091520Z
LAST-MODIFIED:20220413T091520Z
UID:3971-1649894400-1649980799@pmk-kleve.de
SUMMARY:Wielki Czwartek
DESCRIPTION:Msza Wieczerzy Pańskiej\, rozpoczynająca Triduum Paschalne o godz. 19.00 – Liebfrauenkirche\, Frankenstr. 25-27\, 46446 Emmerich \nWielki Czwartek jest obchodzony jako pamiątka ustanowienia przez Chrystusa sakramentów kapłaństwa i Eucharystii podczas Ostatniej Wieczerzy.  \n Po zakończeniu Wieczerzy Najświętszy Sakrament będzie przeniesiony się do kaplicy adoracji\, zwanej ciemnicą (na pamiątkę uwięzienia Jezusa po Ostatniej Wieczerzy)\, gdzie będziemy Go adorować do godz. 22.00.  \nPo zakończeniu liturgii obnaża się ołtarz\, zdejmując świece\, mszał\, krzyż i obrus (łac. denudatio altaris). Gest ten symbolizuje koniec wieczerzy\, odarcie Chrystusa z szat oraz opuszczenia Go przez bliskich. Sam ołtarz bowiem jest symbolem Chrystusa. Tabernakulum pozostanie otwarte i puste\, a wieczna lampka zgaszona. \n
URL:https://pmk-kleve.de/event/wielki-czwartek-3
CATEGORIES:Wydarzenia na strone główną
END:VEVENT
END:VCALENDAR