BEGIN:VCALENDAR
VERSION:2.0
PRODID:-//PMK Kleve - ECPv4.7.1//NONSGML v1.0//EN
CALSCALE:GREGORIAN
METHOD:PUBLISH
X-WR-CALNAME:PMK Kleve
X-ORIGINAL-URL:https://pmk-kleve.de
X-WR-CALDESC:Veranstaltungen für PMK Kleve
BEGIN:VEVENT
DTSTART;VALUE=DATE:20250417
DTEND;VALUE=DATE:20250418
DTSTAMP:20260423T092446
CREATED:20250314T114500Z
LAST-MODIFIED:20250320T103143Z
UID:7267-1744848000-1744934399@pmk-kleve.de
SUMMARY:Wielki Czwartek
DESCRIPTION:Msza Wieczerzy Pańskiej w kościele Liebfrauenkirche w Emmerich o godz. 19.00 \n
URL:https://pmk-kleve.de/event/wielki-czwartek-6
CATEGORIES:Wydarzenia na strone główną
END:VEVENT
END:VCALENDAR