BEGIN:VCALENDAR
VERSION:2.0
PRODID:-//PMK Kleve - ECPv4.7.1//NONSGML v1.0//EN
CALSCALE:GREGORIAN
METHOD:PUBLISH
X-WR-CALNAME:PMK Kleve
X-ORIGINAL-URL:https://pmk-kleve.de
X-WR-CALDESC:Veranstaltungen für PMK Kleve
BEGIN:VEVENT
DTSTART;VALUE=DATE:20190419
DTEND;VALUE=DATE:20190420
DTSTAMP:20260425T182410
CREATED:20190402T070046Z
LAST-MODIFIED:20190417T075322Z
UID:554-1555632000-1555718399@pmk-kleve.de
SUMMARY:Wielki Piątek
DESCRIPTION: \n
URL:https://pmk-kleve.de/event/wielki-piatek
ATTACH;FMTTYPE=image/jpeg:https://pmk-kleve.de/wp-content/uploads/2019/04/krzyz.jpg
END:VEVENT
END:VCALENDAR