BEGIN:VCALENDAR
VERSION:2.0
PRODID:-//PMK Kleve - ECPv4.7.1//NONSGML v1.0//EN
CALSCALE:GREGORIAN
METHOD:PUBLISH
X-WR-CALNAME:PMK Kleve
X-ORIGINAL-URL:https://pmk-kleve.de
X-WR-CALDESC:Veranstaltungen für PMK Kleve
BEGIN:VEVENT
DTSTART;VALUE=DATE:20240201
DTEND;VALUE=DATE:20240202
DTSTAMP:20260419T153259
CREATED:20240126T124524Z
LAST-MODIFIED:20240126T124539Z
UID:6239-1706745600-1706831999@pmk-kleve.de
SUMMARY:Wigilia Ofiarowania Pańskiego
DESCRIPTION:Msza św. z błogosławieństwem Gromnic – w Kevelaer – Beichtkapelle\, godz. 19.30 \n
URL:https://pmk-kleve.de/event/wigilia-ofiarowania-panskiego
CATEGORIES:Wydarzenia na strone główną
END:VEVENT
END:VCALENDAR