BEGIN:VCALENDAR
VERSION:2.0
PRODID:-//PMK Kleve - ECPv4.7.1//NONSGML v1.0//EN
CALSCALE:GREGORIAN
METHOD:PUBLISH
X-WR-CALNAME:PMK Kleve
X-ORIGINAL-URL:https://pmk-kleve.de
X-WR-CALDESC:Veranstaltungen für PMK Kleve
BEGIN:VEVENT
DTSTART;VALUE=DATE:20230408
DTEND;VALUE=DATE:20230409
DTSTAMP:20260422T231017
CREATED:20230324T094806Z
LAST-MODIFIED:20230408T173031Z
UID:5316-1680912000-1680998399@pmk-kleve.de
SUMMARY:Wigilia Paschalna
DESCRIPTION:WIELKA SOBOTA \n\nod godz. 19.00 – Adoracja przy Grobie Pańskim w Liebfrauenkirche\no godz. 21.00 – Wigilia Paschalna w Liebfrauenkirche\, Emmerich am Rhein\n\n
URL:https://pmk-kleve.de/event/wigilia-paschalna
CATEGORIES:Wydarzenia na strone główną
END:VEVENT
END:VCALENDAR