BEGIN:VCALENDAR
VERSION:2.0
PRODID:-//PMK Kleve - ECPv4.7.1//NONSGML v1.0//EN
CALSCALE:GREGORIAN
METHOD:PUBLISH
X-WR-CALNAME:PMK Kleve
X-ORIGINAL-URL:https://pmk-kleve.de
X-WR-CALDESC:Veranstaltungen für PMK Kleve
BEGIN:VEVENT
DTSTART;VALUE=DATE:20230815
DTEND;VALUE=DATE:20230816
DTSTAMP:20260420T045531
CREATED:20230804T105126Z
LAST-MODIFIED:20230804T105129Z
UID:5719-1692057600-1692143999@pmk-kleve.de
SUMMARY:Wniebowzięcie NMP
DESCRIPTION:Msza święta w Kevelaer\, w Beichtkapelle o godz. 19.30. \n
URL:https://pmk-kleve.de/event/wniebowziecie-nmp-2
CATEGORIES:Wydarzenia na strone główną
END:VEVENT
END:VCALENDAR