BEGIN:VCALENDAR
VERSION:2.0
PRODID:-//PMK Kleve - ECPv4.7.1//NONSGML v1.0//EN
CALSCALE:GREGORIAN
METHOD:PUBLISH
X-WR-CALNAME:PMK Kleve
X-ORIGINAL-URL:https://pmk-kleve.de
X-WR-CALDESC:Veranstaltungen für PMK Kleve
BEGIN:VEVENT
DTSTART;VALUE=DATE:20231015
DTEND;VALUE=DATE:20231016
DTSTAMP:20260421T082323
CREATED:20230920T074258Z
LAST-MODIFIED:20230929T114057Z
UID:5845-1697328000-1697414399@pmk-kleve.de
SUMMARY:Wybory Parlamentarne
DESCRIPTION:15 października 2023 r. odbędą się wybory do Sejmu RP i do Senatu RP. Zgodnie z uchwałą Sejmu RP\, w tym samym terminie odbędzie się referendum ogólnokrajowe. \nNA TERENIE NASZEJ PARAFII WYZNACZONO 2 OBWODOWE KOMISJE WYBORCZE: \n\n\n\nNumer obwodu\nSiedziba obwodowej komisji wyborczej\nLokal przystosowany do potrzeb osób niepełnosprawnych\n\n\n199\n\nEmmerich nad Renem \nHinter dem Mühlenberg 1 \n46446 Emmerich am Rhein \n\nTAK\n\n\n205\n\nKleve \n Minoritenplatz 1 \n 47522 Kleve \n\nTAK\n\n\n\nW głosowaniu mogą wziąć udział obywatele Rzeczypospolitej Polski\, posługujący się ważnym polskim paszportem bądź dowodem osobistym oraz zarejestrowane w spisie wyborców.  \nAby zostać ujętym w spisie wyborców należy do 10 października 2023 r. złożyć wniosek o ujęcie w spisie wyborców\, który wraz z wyborem odpowiedniej komisji\, można składać online – poprzez rejestrację w systemie elektronicznym  \n\n\nLINK DO REJESTRACJI DO SPISU WYBORCÓW przez system: eWybory \nW przypadku problemów z rejestracją można skorzystać z sposobów wnioskowania o ujęcie w spisie przez właściwego terytorialnie konsula:\n– złożyć wniosek w postaci papierowej z własnoręcznym podpisem (także korespondencyjnie);\n– złożyć wniosek na adres poczty elektronicznej konsula z załączonym skanem lub fotografią podpisanego własnoręcznie wniosku (formularz wniosku będzie dostępny na stronach internetowych placówek zagranicznych). \n\nZapraszamy do lektury informacji na głównej stronie portalu w zakładce: Wybory i Referendum 2023\nJeśli poszukują Państwo informacji o warunkach głosowania za granicą\, zlecamy odwiedzić stronę Państwowej Komisji Wyborczej: https://pkw.gov.pl/\nDodatkowo informacje można znaleźć pod adresem: https://www.gov.pl/web/dyplomacja/wybory-i-referendum-2023\nW kolońskim okręgu konsularnym utworzono 18 obwodów głosowania. Lista jest dostępna jest w obwieszczeniu (plik PDF).\nTreść rozporządzenia Ministra Spraw Zagranicznych dostępna jest TUTAJ.\nOdpowiedzi na pytania w zakresie głosowania za granicą\, w tym w kolońskim okręgu konsularnym\, można znaleźć na stronie Ministerstwa Spraw Zagranicznych.\nSzczegółowe informacje dot. wyborów do Sejmu RP i Senatu RP oraz referendum ogólnokrajowego znaleźć można także na stronie Państwowej Komisji Wyborczej.\n\n\n\nW razie dodatkowych pytań prosimy o kontakt: \n\nmailowy: kolonia.kg.wybory@msz.gov.pl\ntelefoniczny: +49 221 937 30 237\n\nInfolinia ws. wyborów obsługiwana jest w godzinach pracy urzędu. \n\n\n
URL:https://pmk-kleve.de/event/wybory-parlamentarne
CATEGORIES:Wydarzenia na strone główną
END:VEVENT
END:VCALENDAR