BEGIN:VCALENDAR
VERSION:2.0
PRODID:-//PMK Kleve - ECPv4.7.1//NONSGML v1.0//EN
CALSCALE:GREGORIAN
METHOD:PUBLISH
X-WR-CALNAME:PMK Kleve
X-ORIGINAL-URL:https://pmk-kleve.de
X-WR-CALDESC:Veranstaltungen für PMK Kleve
BEGIN:VEVENT
DTSTART;TZID=UTC+0:20241026T180000
DTEND;TZID=UTC+0:20241026T200000
DTSTAMP:20260422T125008
CREATED:20241011T102340Z
LAST-MODIFIED:20241011T102340Z
UID:6887-1729965600-1729972800@pmk-kleve.de
SUMMARY:Wykład nt. św. Jana Pawła II
DESCRIPTION:W sobotę 26 października o godz. 18.00 w kościele St. Mariä Empfängnis w Kleve odbędzie się wykład na temat „Jan Paweł II na co dzień”\, który wygłosi ks. Paweł Ptasznik. \nPo wykładzie będzie spotkanie z możliwością zadawania pytań i refleksji. \n
URL:https://pmk-kleve.de/event/wyklad-nt-sw-jana-pawla-ii
CATEGORIES:Wydarzenia na strone główną
END:VEVENT
END:VCALENDAR