BEGIN:VCALENDAR
VERSION:2.0
PRODID:-//PMK Kleve - ECPv4.7.1//NONSGML v1.0//EN
CALSCALE:GREGORIAN
METHOD:PUBLISH
X-WR-CALNAME:PMK Kleve
X-ORIGINAL-URL:https://pmk-kleve.de
X-WR-CALDESC:Veranstaltungen für PMK Kleve
BEGIN:VEVENT
DTSTART;VALUE=DATE:20220625
DTEND;VALUE=DATE:20220626
DTSTAMP:20260423T133855
CREATED:20220512T083541Z
LAST-MODIFIED:20220611T133214Z
UID:4056-1656115200-1656201599@pmk-kleve.de
SUMMARY:XVII Polonijne Spotkanie Młodych
DESCRIPTION:Organizujemy wspólny wyjazd autokarem. Zapisy u księdza Marcina \n \n
URL:https://pmk-kleve.de/event/xvii-polonijne-spotkanie-mlodych
CATEGORIES:Wydarzenia na strone główną
END:VEVENT
END:VCALENDAR