BEGIN:VCALENDAR
VERSION:2.0
PRODID:-//PMK Kleve - ECPv4.7.1//NONSGML v1.0//EN
CALSCALE:GREGORIAN
METHOD:PUBLISH
X-WR-CALNAME:PMK Kleve
X-ORIGINAL-URL:https://pmk-kleve.de
X-WR-CALDESC:Veranstaltungen für PMK Kleve
BEGIN:VEVENT
DTSTART;VALUE=DATE:20230211
DTEND;VALUE=DATE:20230212
DTSTAMP:20260423T024121
CREATED:20230203T153543Z
LAST-MODIFIED:20230203T153851Z
UID:5116-1676073600-1676159999@pmk-kleve.de
SUMMARY:XXXI Światowy Dzień Chorego
DESCRIPTION:W sobotę\, 11 lutego 2023 r.\, w dzień liturgicznego wspomnienia Matki Bożej z Lourdes\, będziemy obchodzić XXXI Światowy Dzień Chorego. Myślą przewodnią Dnia Chorego Ojciec Święty Franciszek uczynił słowa „Miej o nim staranie” (Łk 10\, 35)\, wypowiedziane w przypowieści o miłosiernym Samarytaninie.\nPapież Franciszek wskazuje nam\, jak bardzo ważna jest nasza obecność i współczucie choremu\, dodają mu one sił: Choroba jest częścią naszego ludzkiego doświadczenia. Może jednak stać się czymś nieludzkim\, jeśli jest przeżywana w izolacji i opuszczeniu\, jeśli nie towarzyszy jej troska i współczucie. Gdy podążamy naprzód wspólnie\, czymś normalnym jest to\, że ktoś może poczuć się źle\, że będzie musiał się zatrzymać z powodu zmęczenia lub jakiegoś zdarzenia po drodze. To właśnie wówczas\, w tych chwilach\, widać\, jak idziemy: czy jest to rzeczywiście podążanie razem\, czy też idziemy tą samą drogą\, ale każdy na własną rękę\, dbając o swoje interesy i pozwalając\, aby inni „dali sobie radę”. Dlatego w ten XXXI Światowy Dzień Chorego […] zapraszam was do refleksji nad tym\, że właśnie poprzez doświadczenie słabości i choroby możemy nauczyć się podążać razem zgodnie ze stylem Boga\, który jest bliskością\, współczuciem i czułością.\nOjciec Święty zaznacza\, że nigdy nie jesteśmy gotowi na chorobę. Dlatego tak ważne jest\, także w odniesieniu do choroby\, aby cały Kościół skonfrontował się z ewangelicznym przykładem dobrego Samarytanina\, aby stać się wartościowym „szpitalem polowym”: jego misja bowiem\, zwłaszcza w okolicznościach historycznych\, które przeżywamy\, wyraża się w sprawowaniu opieki. Wszyscy jesteśmy delikatni i wrażliwi; wszyscy potrzebujemy tej współczującej uwagi\, która potrafi się zatrzymać\, zbliżyć\, uzdrowić i podnieść.\nDostrzegajmy więc chorych wśród nas i nie dopuśćmy\, by czuli się samotni i opuszczeni. W oczach Boga każdy jest cenny i nikogo nie wolno odrzucać. Pamiętajmy\, że modlitwa jest ważna\, ale czyn jest ważniejszy. \nŹródło: http://www.vatican.va/content/francesco/pl/messages/sick/documents/20230110-giornata-malato.html \nTego dnia zapraszam na Mszę św. do Beichtkapelle w Kevelaer o godz. 9.30\, po Mszy św. będzie udzielany Sakrament Chorych. \n
URL:https://pmk-kleve.de/event/xxxi-swiatowy-dzien-chorego
CATEGORIES:Wydarzenia na strone główną
END:VEVENT
END:VCALENDAR