BEGIN:VCALENDAR
VERSION:2.0
PRODID:-//PMK Kleve - ECPv4.7.1//NONSGML v1.0//EN
CALSCALE:GREGORIAN
METHOD:PUBLISH
X-WR-CALNAME:PMK Kleve
X-ORIGINAL-URL:https://pmk-kleve.de
X-WR-CALDESC:Veranstaltungen für PMK Kleve
BEGIN:VEVENT
DTSTART;VALUE=DATE:20220605
DTEND;VALUE=DATE:20220606
DTSTAMP:20260423T150308
CREATED:20220506T130412Z
LAST-MODIFIED:20220605T154743Z
UID:4028-1654387200-1654473599@pmk-kleve.de
SUMMARY:Zesłanie Ducha Świętego
DESCRIPTION:Dzięki mocy Ducha Świętego możemy przynosić owoce w naszym życiu. Po owocach\, jakie wydajemy\, świat ma poznać do kogo należymy. „Dobre drzewo wydaje dobre owoce” (Mt 7\,17a). \n„Owocem zaś Ducha są: miłość\, pokój\, cierpliwość\, uprzejmość\, dobroć\, wierność\, łagodność\, opanowanie” (Ga 5\, 22-23). \nOtwórz swoje serce na działanie Ducha Świętego. Powtarzaj ustami i całym życiem: przyjdź Duchu Święty\, ja pragnę… \n  \n
URL:https://pmk-kleve.de/event/zeslanie-ducha-swietego
CATEGORIES:Wydarzenia na strone główną
END:VEVENT
END:VCALENDAR