BEGIN:VCALENDAR
VERSION:2.0
PRODID:-//PMK Kleve - ECPv4.7.1//NONSGML v1.0//EN
CALSCALE:GREGORIAN
METHOD:PUBLISH
X-WR-CALNAME:PMK Kleve
X-ORIGINAL-URL:https://pmk-kleve.de
X-WR-CALDESC:Veranstaltungen für PMK Kleve
BEGIN:VEVENT
DTSTART;VALUE=DATE:20220325
DTEND;VALUE=DATE:20220326
DTSTAMP:20260425T103728
CREATED:20220317T131315Z
LAST-MODIFIED:20220318T121041Z
UID:3901-1648166400-1648252799@pmk-kleve.de
SUMMARY:Zwiastowanie Pańskie\, uroczystość
DESCRIPTION:Zwiastowanie Pańskie upamiętnia objawienie się Maryi\, niewiaście z Nazaretu – Archanioła Gabriela\, który przyszedł jej zwiastować\, iż za sprawą Ducha Świętego pocznie i porodzi Syna Bożego.  \nZwiastowanie Pańskie obchodzone jest 25 marca\, a więc 9 miesięcy przed Bozym Narodzeniem. \nTego dnia obchodzimy w Kościele również Dzień Świętości Życia. Życie człowieka jest największym darem Boga. Nikt nie ma prawa tego daru niszczyć. Przykazanie Boże stoi na straży życia człowieka od poczęcia do naturalnej śmierci. Dlatego aborcja i eutanazja są naruszeniem świętości życia ludzkiego. Wzywając orędownictwa Maryi\, która zgodziła się być Matką Syna Bożego\, polecajmy Bogu każde poczęte dziecko\, aby było z miłością przyjęte\, oraz osoby starsze i chore\, aby były otaczane szacunkiem i pomocą. \nMsza św. w Emmerich o godz. 19.00 \n
URL:https://pmk-kleve.de/event/zwiastowanie-panskie-uroczystosc
CATEGORIES:Wydarzenia na strone główną
END:VEVENT
END:VCALENDAR